BEGIN:VCALENDAR
VERSION:2.0
PRODID:GlueUp
CALSCALE:GREGORIAN
BEGIN:VTIMEZONE
TZID:UTC
BEGIN:STANDARD
DTSTART:19700101T000000
TZOFFSETFROM:+0000
TZOFFSETTO:+0000
TZNAME:UTC
END:STANDARD
END:VTIMEZONE
BEGIN:VEVENT
TZ:+00
ORGANIZER;CN=Mio LU:MAILTO:lmiaoyi@ispe.org
UID:49223-1776954315@https://ispeshanghai.glueup.cn
DTSTAMP:20260423T142515Z
DTSTART:20260830T010000Z
DTEND:20260830T155500Z
SUMMARY:指南购买  Guidance Purchase
DESCRIPTION:ISPE Shanghai发布活动指南购买  Guidance Purchase\n\n2026年08月30日\n上午 9:00 - 晚上 11:55(GMT+8)\n\n欲了解更多信息并参加在线活动，请点击此处：\n\n活动网站： https://ispeshanghai.glueup.cn/my/events/49223
LOCATION:
BEGIN:VALARM
TRIGGER:-PT1H
REPEAT:4
DURATION:PT15M
ACTION:DISPLAY
END:VALARM
END:VEVENT
END:VCALENDAR